BEGIN:VCALENDAR
VERSION:2.0
PRODID:-//Tukios.com/
BEGIN:VEVENT
UID:fa451b4a-d0f7-4283-bfc3-28f3a5a96a75@www.groesbeckfuneralhome.com
DTSTAMP:20260424T235309Z
DTSTART:20260425T150000Z
DTEND:20260426T000000Z
SUMMARY:Visitation
DESCRIPTION:
URL:https://www.groesbeckfuneralhome.com/obituaries/ronnie-jones
LOCATION:Groesbeck Funeral Home 1215 East Yeagua Street  Groesbeck TX 
	76642
GEO:31.5160337;-96.5156063
END:VEVENT
END:VCALENDAR