BEGIN:VCALENDAR
VERSION:2.0
PRODID:-//Tukios.com/
BEGIN:VEVENT
UID:25586877-e7b4-4d6c-b764-aa4ce07c3093@www.groesbeckfuneralhome.com
DTSTAMP:20260424T235009Z
DTSTART:20260428T160000Z
DTEND:20260428T170000Z
SUMMARY:Graveside Service
DESCRIPTION:
URL:https://www.groesbeckfuneralhome.com/obituaries/ronnie-jones
LOCATION:Lone Star Cemetery HWY 14 S  Groesbeck TX 76642
GEO:31.5290482;-96.530611
END:VEVENT
END:VCALENDAR